BEGIN:VCALENDAR
VERSION:2.0
PRODID:-//Catholic Telegraph - ECPv5.2.1.1//NONSGML v1.0//EN
CALSCALE:GREGORIAN
METHOD:PUBLISH
X-WR-CALNAME:Catholic Telegraph
X-ORIGINAL-URL:https://www.thecatholictelegraph.com
X-WR-CALDESC:Events for Catholic Telegraph
BEGIN:VTIMEZONE
TZID:America/New_York
BEGIN:DAYLIGHT
TZOFFSETFROM:-0500
TZOFFSETTO:-0400
TZNAME:EDT
DTSTART:20240310T070000
END:DAYLIGHT
BEGIN:STANDARD
TZOFFSETFROM:-0400
TZOFFSETTO:-0500
TZNAME:EST
DTSTART:20241103T060000
END:STANDARD
END:VTIMEZONE
BEGIN:VEVENT
DTSTART;TZID=America/New_York:20240712T170000
DTEND;TZID=America/New_York:20240712T193000
DTSTAMP:20260423T021842
CREATED:20240627T183549Z
LAST-MODIFIED:20240627T183549Z
UID:96713-1720803600-1720812600@www.thecatholictelegraph.com
SUMMARY:Strike Out Hunger
DESCRIPTION:ENJOY A GAME AND HELP FEED STRUGGLING FAMILIES\nJoin St. Vincent de Paul\, the Cincinnati Reds\, WLWT\, and 700 WLW in Striking Out Hunger this summer at Great American Ball Park! \nThree canned goods = 1 ticket to a future Reds game! \n\n\n\n\n\n\n\n\n\n\n\n\n\n\n\n\n\n\n\n\n\n\nMOST-NEEDED ITEMS\nThis summer\, our most-needed food items include: \n\nCereal/Oatmeal\nCanned Meat (chicken\, ham\, salmon\, etc.)\nCanned Fruit\nSpices (salt\, pepper\, garlic)\nHearty Soups\n\nAre you interested in volunteering with St. Vincent de Paul? Visit our Volunteer page to learn more and sign up: https://www.SVDPcincinnati.org/volunteer/ \nJoin us at the ballpark on Friday\, July 12 and Saturday\, July 13 for Strike Out Hunger! \nFans who donate a minimum of three non-perishable food items before the games on Friday and Saturday will receive a free ticket voucher for a future Reds game\, with a limit of one voucher per person. \nCOLLECTION SITES: Volunteers will be located near the ballpark’s main entrance on Crosley Terrace\, as well as along Joe Nuxhall Way near the Reds Hall of Fame & Museum to accept donations. Donations will be collected from 5:00-7:30 p.m. on Friday and 2:00-4:30 p.m. on Saturday. \nAll donated food will be distributed through St. Vincent de Paul’s Becky & Ted Catino Choice Food Pantry in the West End and St. Vincent de Paul’s network of 13 neighborhood-based food pantries throughout Greater Cincinnati. \nIn Hamilton County\, there are nearly 115\,000 residents who are experiencing food insecurity. That’s enough to fill all the seats in Great American Ball Park over two and a half times. The good news is\, when we all pitch in\, together we can make a huge difference. \nLast summer\, fans donated over 8\,900 lbs. of food to the Strike Out Hunger food drive\, enough to provide nearly 7\,500 meals to neighbors in need. Let’s hit another homerun this year! \nThank you\, Reds fans\, for your ongoing support and generosity! \n 
URL:https://www.thecatholictelegraph.com/event/strike-out-hunger
LOCATION:Great American Ballpark\, 100 Joe Nuxhall Way\, Cincinnati\, OH\, 45202\, United States
ATTACH;FMTTYPE=image/jpeg:https://www.thecatholictelegraph.com/wp-content/uploads/2023/07/STRIKE-OUT-HUNGER_FINAL-300x234-1.jpg
GEO:39.0974324;-84.5086916
X-APPLE-STRUCTURED-LOCATION;VALUE=URI;X-ADDRESS=Great American Ballpark 100 Joe Nuxhall Way Cincinnati OH 45202 United States;X-APPLE-RADIUS=500;X-TITLE=100 Joe Nuxhall Way:geo:-84.5086916,39.0974324
END:VEVENT
END:VCALENDAR