BEGIN:VCALENDAR
VERSION:2.0
PRODID:-//Catholic Telegraph - ECPv5.2.1.1//NONSGML v1.0//EN
CALSCALE:GREGORIAN
METHOD:PUBLISH
X-WR-CALNAME:Catholic Telegraph
X-ORIGINAL-URL:https://www.thecatholictelegraph.com
X-WR-CALDESC:Events for Catholic Telegraph
BEGIN:VTIMEZONE
TZID:America/New_York
BEGIN:DAYLIGHT
TZOFFSETFROM:-0500
TZOFFSETTO:-0400
TZNAME:EDT
DTSTART:20170312T070000
END:DAYLIGHT
BEGIN:STANDARD
TZOFFSETFROM:-0400
TZOFFSETTO:-0500
TZNAME:EST
DTSTART:20171105T060000
END:STANDARD
END:VTIMEZONE
BEGIN:VEVENT
DTSTART;TZID=America/New_York:20170705T120000
DTEND;TZID=America/New_York:20170705T130000
DTSTAMP:20260420T114410
CREATED:20170523T123135Z
LAST-MODIFIED:20170523T123135Z
UID:42187-1499256000-1499259600@www.thecatholictelegraph.com
SUMMARY:Summer Lunch with the Lord Series Begins
DESCRIPTION:St. Peter in Chains Cathedral’s Summer Lunch with the Lord speaker series will take place on Wednesdays\, July 5\, 12\, and 19\, from noon-1 pm in Synod Hall. \nDr. Susan McGurgan of the Athenaeum of Ohio\, the archdiocese’s seminary and graduate school\, and popular teacher\, speaker\, and author Father Robert Hater will speak on “The Call to Holiness: Finding God in the Everyday.” Bring a friend and a lunch and have Lunch with the Lord! \nDrinks will be available for a donation. Parking is $5 in the lot at 7th & Plum and $3 per hour at the meters on the streets. Please call 513.421.5354 for more information. \n 
URL:https://www.thecatholictelegraph.com/event/summer-lunch-with-the-lord-series-begins
LOCATION:Cathedral of St. Peter in Chains\, 325 W. Eighth Street\, Cincinnati\, OH\, 45202\, United States
GEO:39.103518;-84.5195591
X-APPLE-STRUCTURED-LOCATION;VALUE=URI;X-ADDRESS=Cathedral of St. Peter in Chains 325 W. Eighth Street Cincinnati OH 45202 United States;X-APPLE-RADIUS=500;X-TITLE=325 W. Eighth Street:geo:-84.5195591,39.103518
END:VEVENT
END:VCALENDAR