BEGIN:VCALENDAR
VERSION:2.0
PRODID:-//Catholic Telegraph - ECPv5.2.1.1//NONSGML v1.0//EN
CALSCALE:GREGORIAN
METHOD:PUBLISH
X-WR-CALNAME:Catholic Telegraph
X-ORIGINAL-URL:https://www.thecatholictelegraph.com
X-WR-CALDESC:Events for Catholic Telegraph
BEGIN:VTIMEZONE
TZID:America/New_York
BEGIN:DAYLIGHT
TZOFFSETFROM:-0500
TZOFFSETTO:-0400
TZNAME:EDT
DTSTART:20170312T070000
END:DAYLIGHT
BEGIN:STANDARD
TZOFFSETFROM:-0400
TZOFFSETTO:-0500
TZNAME:EST
DTSTART:20171105T060000
END:STANDARD
END:VTIMEZONE
BEGIN:VEVENT
DTSTART;TZID=America/New_York:20171214T190000
DTEND;TZID=America/New_York:20171214T200000
DTSTAMP:20260420T115804
CREATED:20171121T184344Z
LAST-MODIFIED:20171121T184344Z
UID:46809-1513278000-1513281600@www.thecatholictelegraph.com
SUMMARY:Taize prayer service at Good Shepherd (Montgomery)
DESCRIPTION:Developed by monks of the Taize community in France\, this contemplative service take place in candlelight while singing short hymns\, repeated again and again. Using just a few words\, Taize expresses a basic reality of faith\, quickly grasped by the mind.
URL:https://www.thecatholictelegraph.com/event/taize-prayer-service-at-good-shepherd-montgomery
LOCATION:Good Shepherd Church\, 8815 E. Kemper Rd\, Cincinnati\, OH\, 45249-2718\, United States
GEO:39.2660201;-84.3198457
X-APPLE-STRUCTURED-LOCATION;VALUE=URI;X-ADDRESS=Good Shepherd Church 8815 E. Kemper Rd Cincinnati OH 45249-2718 United States;X-APPLE-RADIUS=500;X-TITLE=8815 E. Kemper Rd:geo:-84.3198457,39.2660201
END:VEVENT
END:VCALENDAR