BEGIN:VCALENDAR
VERSION:2.0
PRODID:-//Catholic Telegraph - ECPv5.2.1.1//NONSGML v1.0//EN
CALSCALE:GREGORIAN
METHOD:PUBLISH
X-WR-CALNAME:Catholic Telegraph
X-ORIGINAL-URL:https://www.thecatholictelegraph.com
X-WR-CALDESC:Events for Catholic Telegraph
BEGIN:VTIMEZONE
TZID:America/New_York
BEGIN:DAYLIGHT
TZOFFSETFROM:-0500
TZOFFSETTO:-0400
TZNAME:EDT
DTSTART:20170312T070000
END:DAYLIGHT
BEGIN:STANDARD
TZOFFSETFROM:-0400
TZOFFSETTO:-0500
TZNAME:EST
DTSTART:20171105T060000
END:STANDARD
END:VTIMEZONE
BEGIN:VEVENT
DTSTART;TZID=America/New_York:20170324T193000
DTEND;TZID=America/New_York:20170324T203000
DTSTAMP:20260425T150109
CREATED:20170314T152743Z
LAST-MODIFIED:20170314T152743Z
UID:40061-1490383800-1490387400@www.thecatholictelegraph.com
SUMMARY:Talk on the Resurrection and the Ascension at IHM
DESCRIPTION:IHM’s Lenten speaker series will feature popular speaker Father Ethan Moore\, parochial vicar of St. Peter Church in Huber Heights and the parishes of Old North Dayton. \nCome early for the parish Fish Fry (4:30 – 7 in the cafeteria)\, Rosary (6:25 in the church)\, Stations of the Cross (7 pm); or come just for the speaker.
URL:https://www.thecatholictelegraph.com/event/talk-on-the-resurrection-and-the-ascension-at-ihm
LOCATION:Immaculate Heart of Mary (Anderson Twp)\, 7820 Beechmont Ave\, Cincinnati\, OH\, 45255
GEO:39.0732994;-84.3402529
X-APPLE-STRUCTURED-LOCATION;VALUE=URI;X-ADDRESS=Immaculate Heart of Mary (Anderson Twp) 7820 Beechmont Ave Cincinnati OH 45255;X-APPLE-RADIUS=500;X-TITLE=7820 Beechmont Ave:geo:-84.3402529,39.0732994
END:VEVENT
END:VCALENDAR