BEGIN:VCALENDAR
VERSION:2.0
PRODID:-//Catholic Telegraph - ECPv5.2.1.1//NONSGML v1.0//EN
CALSCALE:GREGORIAN
METHOD:PUBLISH
X-WR-CALNAME:Catholic Telegraph
X-ORIGINAL-URL:https://www.thecatholictelegraph.com
X-WR-CALDESC:Events for Catholic Telegraph
BEGIN:VTIMEZONE
TZID:America/New_York
BEGIN:DAYLIGHT
TZOFFSETFROM:-0500
TZOFFSETTO:-0400
TZNAME:EDT
DTSTART:20190310T070000
END:DAYLIGHT
BEGIN:STANDARD
TZOFFSETFROM:-0400
TZOFFSETTO:-0500
TZNAME:EST
DTSTART:20191103T060000
END:STANDARD
END:VTIMEZONE
BEGIN:VEVENT
DTSTART;TZID=America/New_York:20191024T190000
DTEND;TZID=America/New_York:20191024T210000
DTSTAMP:20260420T125246
CREATED:20191002T202149Z
LAST-MODIFIED:20191003T155724Z
UID:59729-1571943600-1571950800@www.thecatholictelegraph.com
SUMMARY:The Angelico Project "MASTERPIECES Film Screening\, a “Small Bites\, Big Ideas”
DESCRIPTION:What: The Angelico Project MASTERPIECES Film Screening\, a “Small Bites\, Big Ideas”\nWhen: Thursday\, October 24\, 2019 at 7:00 p.m.\nWhere: at St Peter in Chains Cathedral\, Synod Room\, 325 W. 8th St.\, Cincinnati 45202 \nMASTERPIECES Film Screening\, a “Small Bites\, Big Ideas” Guild Event with Filmmaker Cristian Murph from 7-10pm at St Peter in Chains Cathedral\, Synod Room. Film showcases 5 distinct artists in “portrait film mode”. Each artist shares his/her vocational story and allows the viewer to connect this to their own story.
URL:https://www.thecatholictelegraph.com/event/the-angelico-project-3
LOCATION:Cathedral of St. Peter in Chains\, 325 W. Eighth Street\, Cincinnati\, OH\, 45202\, United States
GEO:39.103518;-84.5195591
X-APPLE-STRUCTURED-LOCATION;VALUE=URI;X-ADDRESS=Cathedral of St. Peter in Chains 325 W. Eighth Street Cincinnati OH 45202 United States;X-APPLE-RADIUS=500;X-TITLE=325 W. Eighth Street:geo:-84.5195591,39.103518
END:VEVENT
END:VCALENDAR