BEGIN:VCALENDAR
VERSION:2.0
PRODID:-//Catholic Telegraph - ECPv5.2.1.1//NONSGML v1.0//EN
CALSCALE:GREGORIAN
METHOD:PUBLISH
X-WR-CALNAME:Catholic Telegraph
X-ORIGINAL-URL:https://www.thecatholictelegraph.com
X-WR-CALDESC:Events for Catholic Telegraph
BEGIN:VTIMEZONE
TZID:America/New_York
BEGIN:DAYLIGHT
TZOFFSETFROM:-0500
TZOFFSETTO:-0400
TZNAME:EDT
DTSTART:20190310T070000
END:DAYLIGHT
BEGIN:STANDARD
TZOFFSETFROM:-0400
TZOFFSETTO:-0500
TZNAME:EST
DTSTART:20191103T060000
END:STANDARD
END:VTIMEZONE
BEGIN:VEVENT
DTSTART;TZID=America/New_York:20190220T190000
DTEND;TZID=America/New_York:20190220T210000
DTSTAMP:20260420T143624
CREATED:20190220T200109Z
LAST-MODIFIED:20190220T200138Z
UID:56437-1550689200-1550696400@www.thecatholictelegraph.com
SUMMARY:Theology on Tap
DESCRIPTION:What: Theology on Tap Speaker Ryan Mahle\nWhen: Wednesday\, February 20\, 2019\n7:00 p.m.\, Fellowship\n7:30 p.m.\, Featured Speaker\nWhere: J D Legends\, 65 Millard Dr.\, Franklin 45005
URL:https://www.thecatholictelegraph.com/event/theology-on-tap
LOCATION:J D Legends\, 65 Millard Dr.\, Franklin\, OH\, 45005\, United States
END:VEVENT
END:VCALENDAR