BEGIN:VCALENDAR
VERSION:2.0
PRODID:-//Catholic Telegraph - ECPv5.2.1.1//NONSGML v1.0//EN
CALSCALE:GREGORIAN
METHOD:PUBLISH
X-WR-CALNAME:Catholic Telegraph
X-ORIGINAL-URL:https://www.thecatholictelegraph.com
X-WR-CALDESC:Events for Catholic Telegraph
BEGIN:VTIMEZONE
TZID:America/New_York
BEGIN:DAYLIGHT
TZOFFSETFROM:-0500
TZOFFSETTO:-0400
TZNAME:EDT
DTSTART:20170312T070000
END:DAYLIGHT
BEGIN:STANDARD
TZOFFSETFROM:-0400
TZOFFSETTO:-0500
TZNAME:EST
DTSTART:20171105T060000
END:STANDARD
END:VTIMEZONE
BEGIN:VEVENT
DTSTART;TZID=America/New_York:20170808T140000
DTEND;TZID=America/New_York:20170808T140000
DTSTAMP:20260423T203505
CREATED:20170627T193734Z
LAST-MODIFIED:20170627T193923Z
UID:43264-1502200800-1502200800@www.thecatholictelegraph.com
SUMMARY:Torchbearers Retreat for Girls Begins in DeGraff
DESCRIPTION:Aug. 8-10. For girls ages 8-14. The Children of Mary Sisters invite youth to be “Torchbearers of Divine Love.” Retreat includes Mass\, Adoration\, and praying the Divine Office;  games and activities emphasizing the beauty of the feminine. Learn how to relate to one another “In Persona Maria\,” radiating Christ to all. \n“We pray the young ladies will go back to their daily lives with ‘The Torch’ of Divine Love in their hearts burning bright\, lighting other torches\, preparing the way for the Triumph of the Immaculate Heart of Mary\, The Eucharistic Reign of Jesus in every human heart!” \nRegistration is at 2:00 pm on August 8th\, 7075 St. Rt. 47\, DeGraff\, Ohio. The retreat ends on August 10th. Parents are invited to arrive at 4pm on August 10th for the Final Presentation followed by a POTLUCK dinner. Pickup is at 7317 St. Rt. 47\, DeGraff\, Ohio.
URL:https://www.thecatholictelegraph.com/event/torchbearers-retreat-for-girls-begins-in-degraff-2
END:VEVENT
END:VCALENDAR