BEGIN:VCALENDAR
VERSION:2.0
PRODID:-//Catholic Telegraph - ECPv5.2.1.1//NONSGML v1.0//EN
CALSCALE:GREGORIAN
METHOD:PUBLISH
X-WR-CALNAME:Catholic Telegraph
X-ORIGINAL-URL:https://www.thecatholictelegraph.com
X-WR-CALDESC:Events for Catholic Telegraph
BEGIN:VTIMEZONE
TZID:America/New_York
BEGIN:DAYLIGHT
TZOFFSETFROM:-0500
TZOFFSETTO:-0400
TZNAME:EDT
DTSTART:20170312T070000
END:DAYLIGHT
BEGIN:STANDARD
TZOFFSETFROM:-0400
TZOFFSETTO:-0500
TZNAME:EST
DTSTART:20171105T060000
END:STANDARD
END:VTIMEZONE
BEGIN:VEVENT
DTSTART;TZID=America/New_York:20171202T190000
DTEND;TZID=America/New_York:20171202T220000
DTSTAMP:20260422T032312
CREATED:20170720T133905Z
LAST-MODIFIED:20170720T133905Z
UID:43681-1512241200-1512252000@www.thecatholictelegraph.com
SUMMARY:VIA Encounter Dayton at Chaminade Julienne
DESCRIPTION:Chaminade Julienne High School will sponsor this prayer festival for high school youth and their youth ministers. Doors open at 6:30 pm\, music begins at 7 pm. Encounter provides an opportunity to grow in deeper relation with Jesus through adoration\, confession\, praise and worship\, and community. Speakers to be announced. No fee!
URL:https://www.thecatholictelegraph.com/event/via-encounter-dayton-at-chaminade-julienne-3
LOCATION:Chaminade Julienne High School\, 505 South Ludlow Street\, Dayton\, OH
GEO:39.752752;-84.19254
X-APPLE-STRUCTURED-LOCATION;VALUE=URI;X-ADDRESS=Chaminade Julienne High School 505 South Ludlow Street Dayton OH;X-APPLE-RADIUS=500;X-TITLE=505 South Ludlow Street:geo:-84.19254,39.752752
END:VEVENT
END:VCALENDAR