BEGIN:VCALENDAR
VERSION:2.0
PRODID:-//Catholic Telegraph - ECPv5.2.1.1//NONSGML v1.0//EN
CALSCALE:GREGORIAN
METHOD:PUBLISH
X-WR-CALNAME:Catholic Telegraph
X-ORIGINAL-URL:https://www.thecatholictelegraph.com
X-WR-CALDESC:Events for Catholic Telegraph
BEGIN:VTIMEZONE
TZID:America/New_York
BEGIN:DAYLIGHT
TZOFFSETFROM:-0500
TZOFFSETTO:-0400
TZNAME:EDT
DTSTART:20170312T070000
END:DAYLIGHT
BEGIN:STANDARD
TZOFFSETFROM:-0400
TZOFFSETTO:-0500
TZNAME:EST
DTSTART:20171105T060000
END:STANDARD
END:VTIMEZONE
BEGIN:VEVENT
DTSTART;TZID=America/New_York:20170807T083000
DTEND;TZID=America/New_York:20170807T153000
DTSTAMP:20260425T083856
CREATED:20170720T134650Z
LAST-MODIFIED:20170720T134650Z
UID:43685-1502094600-1502119800@www.thecatholictelegraph.com
SUMMARY:VIA Nova Youth Ministry Formation Day at The Athenaeum
DESCRIPTION:Formation\, prayer\, fellowship\, more — Nova is a day-long formation retreat  at the beginning of each semester for youth ministers\, campus ministers\, and volunteers. The day progresses through a series of topics that aim to experientially build a foundation on which youth or campus ministers can discern God’s will for carrying out youth evangelization and discipleship their parish or school.
URL:https://www.thecatholictelegraph.com/event/via-nova-youth-ministry-formation-day-at-the-athenaeum
LOCATION:Athenaeum of Ohio\, 6616 Beechmont Avenue\, Cincinnat\, OH\, 45230\, United States
GEO:39.083756;-84.3729539
X-APPLE-STRUCTURED-LOCATION;VALUE=URI;X-ADDRESS=Athenaeum of Ohio 6616 Beechmont Avenue Cincinnat OH 45230 United States;X-APPLE-RADIUS=500;X-TITLE=6616 Beechmont Avenue:geo:-84.3729539,39.083756
END:VEVENT
END:VCALENDAR