BEGIN:VCALENDAR
VERSION:2.0
PRODID:-//Catholic Telegraph - ECPv5.2.1.1//NONSGML v1.0//EN
CALSCALE:GREGORIAN
METHOD:PUBLISH
X-WR-CALNAME:Catholic Telegraph
X-ORIGINAL-URL:https://www.thecatholictelegraph.com
X-WR-CALDESC:Events for Catholic Telegraph
BEGIN:VTIMEZONE
TZID:America/New_York
BEGIN:DAYLIGHT
TZOFFSETFROM:-0500
TZOFFSETTO:-0400
TZNAME:EDT
DTSTART:20170312T070000
END:DAYLIGHT
BEGIN:STANDARD
TZOFFSETFROM:-0400
TZOFFSETTO:-0500
TZNAME:EST
DTSTART:20171105T060000
END:STANDARD
END:VTIMEZONE
BEGIN:VEVENT
DTSTART;TZID=America/New_York:20170808T083000
DTEND;TZID=America/New_York:20170808T153000
DTSTAMP:20260425T080307
CREATED:20170720T134946Z
LAST-MODIFIED:20170720T135118Z
UID:43687-1502181000-1502206200@www.thecatholictelegraph.com
SUMMARY:VIA Nova Youth Ministry Formation Day in Piqua
DESCRIPTION:Formation\, prayer\, fellowship\, more — Nova is a day-long formation retreat  at the beginning of each semester for youth ministers\, campus ministers\, and volunteers. The day progresses through a series of topics that aim to experientially build a foundation on which youth or campus ministers can discern God’s will for carrying out youth evangelization and discipleship their parish or school. Site: The Caserta Center at St. Boniface.
URL:https://www.thecatholictelegraph.com/event/via-nova-youth-ministry-formation-day-in-piqua
LOCATION:St. Boniface (Piqua)\, 310 S Downing St\, Piqua\, Ohio\, 45356
GEO:40.143797;-84.242491
X-APPLE-STRUCTURED-LOCATION;VALUE=URI;X-ADDRESS=St. Boniface (Piqua) 310 S Downing St Piqua Ohio 45356;X-APPLE-RADIUS=500;X-TITLE=310 S Downing St:geo:-84.242491,40.143797
END:VEVENT
END:VCALENDAR