BEGIN:VCALENDAR
VERSION:2.0
PRODID:-//Catholic Telegraph - ECPv5.2.1.1//NONSGML v1.0//EN
CALSCALE:GREGORIAN
METHOD:PUBLISH
X-WR-CALNAME:Catholic Telegraph
X-ORIGINAL-URL:https://www.thecatholictelegraph.com
X-WR-CALDESC:Events for Catholic Telegraph
BEGIN:VTIMEZONE
TZID:America/New_York
BEGIN:DAYLIGHT
TZOFFSETFROM:-0500
TZOFFSETTO:-0400
TZNAME:EDT
DTSTART:20170312T070000
END:DAYLIGHT
BEGIN:STANDARD
TZOFFSETFROM:-0400
TZOFFSETTO:-0500
TZNAME:EST
DTSTART:20171105T060000
END:STANDARD
END:VTIMEZONE
BEGIN:VEVENT
DTSTART;TZID=America/New_York:20170715T090000
DTEND;TZID=America/New_York:20170715T120000
DTSTAMP:20260425T231047
CREATED:20170502T140648Z
LAST-MODIFIED:20170502T140648Z
UID:41681-1500109200-1500120000@www.thecatholictelegraph.com
SUMMARY:Vivian's Victory 5K Run and 1-Mile Family Victory Run in Blue Ash
DESCRIPTION:Sixth annual 5K to benefit Vivian’s Victory\, a charity that helps families given poor prenatal diagnoses. Fee for one-mile Family Victory Run $15; fee for race $30.
URL:https://www.thecatholictelegraph.com/event/vivians-victory-5k-run-and-1-mile-family-victory-run-in-blue-ash
LOCATION:Summit Park\, 4335 Glendale Milford Road\, Blue Ash\, Ohio\, 45242
GEO:39.2517595;-84.3882052
X-APPLE-STRUCTURED-LOCATION;VALUE=URI;X-ADDRESS=Summit Park 4335 Glendale Milford Road Blue Ash Ohio 45242;X-APPLE-RADIUS=500;X-TITLE=4335 Glendale Milford Road:geo:-84.3882052,39.2517595
END:VEVENT
END:VCALENDAR