BEGIN:VCALENDAR
VERSION:2.0
PRODID:-//Catholic Telegraph - ECPv5.2.1.1//NONSGML v1.0//EN
CALSCALE:GREGORIAN
METHOD:PUBLISH
X-WR-CALNAME:Catholic Telegraph
X-ORIGINAL-URL:https://www.thecatholictelegraph.com
X-WR-CALDESC:Events for Catholic Telegraph
BEGIN:VTIMEZONE
TZID:America/New_York
BEGIN:DAYLIGHT
TZOFFSETFROM:-0500
TZOFFSETTO:-0400
TZNAME:EDT
DTSTART:20170312T070000
END:DAYLIGHT
BEGIN:STANDARD
TZOFFSETFROM:-0400
TZOFFSETTO:-0500
TZNAME:EST
DTSTART:20171105T060000
END:STANDARD
END:VTIMEZONE
BEGIN:VEVENT
DTSTART;TZID=America/New_York:20170409T150000
DTEND;TZID=America/New_York:20170409T160000
DTSTAMP:20260421T090011
CREATED:20170330T154127Z
LAST-MODIFIED:20170330T154127Z
UID:40649-1491750000-1491753600@www.thecatholictelegraph.com
SUMMARY:Way of the Cross for Unborn Victims of Abortion in Mt. Auburn
DESCRIPTION:40 Days for Life – Cincinnati’s Spring Prayer Campaign will end on Palm Sunday with prayers of thanksgiving and a special ecumenical Way of the Cross.  It will begin at the parking lot of Holy Name Church parking lot and process to Planned Parenthood\, praying an ecumenical set of prayers and readings from the Passion of Our Lord that is used every year on Good Friday by a group pro-life Christians in Chicago.  Father Thomas Wray\, director of the  Archdiocese of Cincinnati’s Office of Evangelization and Catechesis\, will lead the procession and give an address during the hour. Bring your blessed palms for the procession. For information call Mary Clark at 513-791-4039 or 513-365-2606.
URL:https://www.thecatholictelegraph.com/event/way-of-the-cross-for-unborn-victims-of-abortion-in-mt-auburn
LOCATION:Holy Name Church\, 2422 Auburn Avenue\, Cincinnati\, OH\, 45219
GEO:39.1261493;-84.5084052
X-APPLE-STRUCTURED-LOCATION;VALUE=URI;X-ADDRESS=Holy Name Church 2422 Auburn Avenue Cincinnati OH 45219;X-APPLE-RADIUS=500;X-TITLE=2422 Auburn Avenue:geo:-84.5084052,39.1261493
END:VEVENT
END:VCALENDAR